BEGIN:VCALENDAR
VERSION:2.0
PRODID:-//Ibracon - ECPv6.8.0//NONSGML v1.0//EN
CALSCALE:GREGORIAN
METHOD:PUBLISH
X-WR-CALNAME:Ibracon
X-ORIGINAL-URL:https://www.ibracon.com.br
X-WR-CALDESC:Eventos para Ibracon
REFRESH-INTERVAL;VALUE=DURATION:PT1H
X-Robots-Tag:noindex
X-PUBLISHED-TTL:PT1H
BEGIN:VTIMEZONE
TZID:America/Sao_Paulo
BEGIN:STANDARD
TZOFFSETFROM:-0300
TZOFFSETTO:-0300
TZNAME:-03
DTSTART:20250101T000000
END:STANDARD
END:VTIMEZONE
BEGIN:VEVENT
DTSTART;TZID=America/Sao_Paulo:20250909T120000
DTEND;TZID=America/Sao_Paulo:20250909T180000
DTSTAMP:20260421T075031
CREATED:20250901T200431Z
LAST-MODIFIED:20250901T200431Z
UID:20562-1757419200-1757440800@www.ibracon.com.br
SUMMARY:III Seminário da Comissão de Auditoria Contábil
DESCRIPTION:
URL:https://www.ibracon.com.br/evento/iii-seminario-da-comissao-de-auditoria-contabil/
LOCATION:Sede CRC-CE
CATEGORIES:Cursos
END:VEVENT
END:VCALENDAR