BEGIN:VCALENDAR
VERSION:2.0
PRODID:-//Ibracon - ECPv6.8.0//NONSGML v1.0//EN
CALSCALE:GREGORIAN
METHOD:PUBLISH
X-WR-CALNAME:Ibracon
X-ORIGINAL-URL:https://www.ibracon.com.br
X-WR-CALDESC:Eventos para Ibracon
REFRESH-INTERVAL;VALUE=DURATION:PT1H
X-Robots-Tag:noindex
X-PUBLISHED-TTL:PT1H
BEGIN:VTIMEZONE
TZID:America/Sao_Paulo
BEGIN:STANDARD
TZOFFSETFROM:-0300
TZOFFSETTO:-0300
TZNAME:-03
DTSTART:20230101T000000
END:STANDARD
END:VTIMEZONE
BEGIN:VEVENT
DTSTART;TZID=America/Sao_Paulo:20231204T143000
DTEND;TZID=America/Sao_Paulo:20231204T150000
DTSTAMP:20260421T220714
CREATED:20230616T205250Z
LAST-MODIFIED:20230616T210146Z
UID:4056-1701700200-1701702000@www.ibracon.com.br
SUMMARY:Atualizações Técnicas – Regionais
DESCRIPTION:
URL:https://www.ibracon.com.br/evento/atualizacoes-tecnicas-regionais-5/
LOCATION:Teams\, Link\, SP\, SP\, 4398743897\, Brasil
CATEGORIES:Área Técnica
END:VEVENT
END:VCALENDAR