BEGIN:VCALENDAR
VERSION:2.0
PRODID:-//Ibracon - ECPv6.8.0//NONSGML v1.0//EN
CALSCALE:GREGORIAN
METHOD:PUBLISH
X-WR-CALNAME:Ibracon
X-ORIGINAL-URL:https://www.ibracon.com.br
X-WR-CALDESC:Eventos para Ibracon
REFRESH-INTERVAL;VALUE=DURATION:PT1H
X-Robots-Tag:noindex
X-PUBLISHED-TTL:PT1H
BEGIN:VTIMEZONE
TZID:America/Sao_Paulo
BEGIN:STANDARD
TZOFFSETFROM:-0300
TZOFFSETTO:-0300
TZNAME:-03
DTSTART:20230101T000000
END:STANDARD
END:VTIMEZONE
BEGIN:VEVENT
DTSTART;TZID=America/Sao_Paulo:20230529T150000
DTEND;TZID=America/Sao_Paulo:20230529T163000
DTSTAMP:20260422T130139
CREATED:20230529T145731Z
LAST-MODIFIED:20230529T145930Z
UID:2586-1685372400-1685377800@www.ibracon.com.br
SUMMARY:35º Circuito Técnico do CFC
DESCRIPTION:
URL:https://www.ibracon.com.br/evento/35o-circuito-tecnico-do-cfc/
LOCATION:SP
CATEGORIES:Área Técnica
END:VEVENT
END:VCALENDAR