BEGIN:VCALENDAR
VERSION:2.0
PRODID:-//Ibracon - ECPv6.8.0//NONSGML v1.0//EN
CALSCALE:GREGORIAN
METHOD:PUBLISH
X-ORIGINAL-URL:https://www.ibracon.com.br
X-WR-CALDESC:Eventos para Ibracon
REFRESH-INTERVAL;VALUE=DURATION:PT1H
X-Robots-Tag:noindex
X-PUBLISHED-TTL:PT1H
BEGIN:VTIMEZONE
TZID:America/Sao_Paulo
BEGIN:STANDARD
TZOFFSETFROM:-0300
TZOFFSETTO:-0300
TZNAME:-03
DTSTART:20230101T000000
END:STANDARD
END:VTIMEZONE
BEGIN:VEVENT
DTSTART;TZID=America/Sao_Paulo:20231003T090000
DTEND;TZID=America/Sao_Paulo:20231003T120000
DTSTAMP:20260422T033412
CREATED:20230616T205511Z
LAST-MODIFIED:20230616T210336Z
UID:4097-1696323600-1696334400@www.ibracon.com.br
SUMMARY:Reunião - CNNT
DESCRIPTION:
URL:https://www.ibracon.com.br/evento/reuniao-cnnt-13/
LOCATION:Teams\, Link\, SP\, SP\, 4398743897\, Brasil
CATEGORIES:Área Técnica
END:VEVENT
BEGIN:VEVENT
DTSTART;TZID=America/Sao_Paulo:20231009T143000
DTEND;TZID=America/Sao_Paulo:20231009T150000
DTSTAMP:20260422T033412
CREATED:20230616T205251Z
LAST-MODIFIED:20230616T210147Z
UID:4058-1696861800-1696863600@www.ibracon.com.br
SUMMARY:Atualizações Técnicas – Regionais
DESCRIPTION:
URL:https://www.ibracon.com.br/evento/atualizacoes-tecnicas-regionais-7/
LOCATION:Teams\, Link\, SP\, SP\, 4398743897\, Brasil
CATEGORIES:Área Técnica
END:VEVENT
BEGIN:VEVENT
DTSTART;TZID=America/Sao_Paulo:20231012T160000
DTEND;TZID=America/Sao_Paulo:20231012T170000
DTSTAMP:20260422T033412
CREATED:20230616T205611Z
LAST-MODIFIED:20230616T210521Z
UID:4132-1697126400-1697130000@www.ibracon.com.br
SUMMARY:Reunião - Task Force LGPD
DESCRIPTION:
URL:https://www.ibracon.com.br/evento/reuniao-task-force-lgpd-13/
LOCATION:Teams\, Link\, SP\, SP\, 4398743897\, Brasil
CATEGORIES:Área Técnica
END:VEVENT
BEGIN:VEVENT
DTSTART;TZID=America/Sao_Paulo:20231018T100000
DTEND;TZID=America/Sao_Paulo:20231018T120000
DTSTAMP:20260422T033412
CREATED:20230616T205541Z
LAST-MODIFIED:20230616T210451Z
UID:4122-1697623200-1697630400@www.ibracon.com.br
SUMMARY:Reunião - GT Incorporadoras
DESCRIPTION:
URL:https://www.ibracon.com.br/evento/reuniao-gt-incorporadoras-5/
LOCATION:Teams\, Link\, SP\, SP\, 4398743897\, Brasil
CATEGORIES:Área Técnica
END:VEVENT
END:VCALENDAR