BEGIN:VCALENDAR
VERSION:2.0
PRODID:-//Ibracon - ECPv6.8.0//NONSGML v1.0//EN
CALSCALE:GREGORIAN
METHOD:PUBLISH
X-ORIGINAL-URL:https://www.ibracon.com.br
X-WR-CALDESC:Eventos para Ibracon
REFRESH-INTERVAL;VALUE=DURATION:PT1H
X-Robots-Tag:noindex
X-PUBLISHED-TTL:PT1H
BEGIN:VTIMEZONE
TZID:America/Sao_Paulo
BEGIN:STANDARD
TZOFFSETFROM:-0300
TZOFFSETTO:-0300
TZNAME:-03
DTSTART:20230101T000000
END:STANDARD
END:VTIMEZONE
BEGIN:VEVENT
DTSTART;TZID=America/Sao_Paulo:20230801T090000
DTEND;TZID=America/Sao_Paulo:20230801T120000
DTSTAMP:20260422T071611
CREATED:20230616T205510Z
LAST-MODIFIED:20230616T210336Z
UID:4095-1690880400-1690891200@www.ibracon.com.br
SUMMARY:Reunião - CNNT
DESCRIPTION:
URL:https://www.ibracon.com.br/evento/reuniao-cnnt-11/
LOCATION:Teams\, Link\, SP\, SP\, 4398743897\, Brasil
CATEGORIES:Área Técnica
END:VEVENT
BEGIN:VEVENT
DTSTART;TZID=America/Sao_Paulo:20230810T160000
DTEND;TZID=America/Sao_Paulo:20230810T170000
DTSTAMP:20260422T071611
CREATED:20230616T205610Z
LAST-MODIFIED:20230616T210521Z
UID:4130-1691683200-1691686800@www.ibracon.com.br
SUMMARY:Reunião - Task Force LGPD
DESCRIPTION:
URL:https://www.ibracon.com.br/evento/reuniao-task-force-lgpd-11/
LOCATION:Teams\, Link\, SP\, SP\, 4398743897\, Brasil
CATEGORIES:Área Técnica
END:VEVENT
BEGIN:VEVENT
DTSTART;TZID=America/Sao_Paulo:20230814T143000
DTEND;TZID=America/Sao_Paulo:20230814T150000
DTSTAMP:20260422T071611
CREATED:20230616T205252Z
LAST-MODIFIED:20230616T210148Z
UID:4060-1692023400-1692025200@www.ibracon.com.br
SUMMARY:Atualizações Técnicas – Regionais
DESCRIPTION:
URL:https://www.ibracon.com.br/evento/atualizacoes-tecnicas-regionais-9/
LOCATION:Teams\, Link\, SP\, SP\, 4398743897\, Brasil
CATEGORIES:Área Técnica
END:VEVENT
BEGIN:VEVENT
DTSTART;TZID=America/Sao_Paulo:20230816T100000
DTEND;TZID=America/Sao_Paulo:20230816T120000
DTSTAMP:20260422T071611
CREATED:20230616T205541Z
LAST-MODIFIED:20230616T210451Z
UID:4123-1692180000-1692187200@www.ibracon.com.br
SUMMARY:Reunião - GT Incorporadoras
DESCRIPTION:
URL:https://www.ibracon.com.br/evento/reuniao-gt-incorporadoras-6/
LOCATION:Teams\, Link\, SP\, SP\, 4398743897\, Brasil
CATEGORIES:Área Técnica
END:VEVENT
END:VCALENDAR